BEGIN:VCALENDAR
VERSION:2.0
PRODID:-//pretix//kdab//
BEGIN:VTIMEZONE
TZID:Europe/Berlin
BEGIN:STANDARD
DTSTART:20001029T040000
RRULE:FREQ=YEARLY;BYDAY=-1SU;BYMONTH=10
TZNAME:CET
TZOFFSETFROM:+0200
TZOFFSETTO:+0100
END:STANDARD
BEGIN:DAYLIGHT
DTSTART:20000326T030000
RRULE:FREQ=YEARLY;BYDAY=-1SU;BYMONTH=3
TZNAME:CEST
TZOFFSETFROM:+0100
TZOFFSETTO:+0200
END:DAYLIGHT
END:VTIMEZONE
BEGIN:VEVENT
UID:pretix-kdab-training-IntRust180526-2-0@pretix.kdab.com
DTSTART;TZID=Europe/Berlin:20260518T140000
DTEND;TZID=Europe/Berlin:20260522T180000
DESCRIPTION:Tickets: https://pretix.kdab.com/kdab-training/IntRust180526-2/
 \nOrganizer: KDAB Training
DTSTAMP:20260424T135251Z
LOCATION:Online
SUMMARY:Introduction to Rust
END:VEVENT
BEGIN:VEVENT
UID:pretix-kdab-training-RustCombo180526-0@pretix.kdab.com
DTSTART;TZID=Europe/Berlin:20260518T140000
DTEND;TZID=Europe/Berlin:20260605T180000
DESCRIPTION:Tickets: https://pretix.kdab.com/kdab-training/RustCombo180526/
 \nOrganizer: KDAB Training
DTSTAMP:20260424T135251Z
LOCATION:Online
SUMMARY:Introduction + Embedded Rust Combo
END:VEVENT
BEGIN:VEVENT
UID:pretix-kdab-training-DPQtL190526-2-0@pretix.kdab.com
DTSTART;TZID=Europe/Berlin:20260519T090000
DTEND;TZID=Europe/Berlin:20260521T170000
DESCRIPTION:Tickets: https://pretix.kdab.com/kdab-training/DPQtL190526-2/\n
 Organizer: KDAB Training
DTSTAMP:20260424T135251Z
LOCATION:Berlin\, Germany
SUMMARY:Debugging and Profiling Qt applications on Linux
END:VEVENT
BEGIN:VEVENT
UID:pretix-kdab-training-EmbRust270526-0@pretix.kdab.com
DTSTART;TZID=Europe/Berlin:20260603T140000
DTEND;TZID=Europe/Berlin:20260605T180000
DESCRIPTION:Tickets: https://pretix.kdab.com/kdab-training/EmbRust270526/\n
 Organizer: KDAB Training
DTSTAMP:20260424T135251Z
LOCATION:Online
SUMMARY:Embedded Rust
END:VEVENT
BEGIN:VEVENT
UID:pretix-kdab-training-AdvQML180826-0@pretix.kdab.com
DTSTART;TZID=Europe/Berlin:20260818T090000
DTEND;TZID=Europe/Berlin:20260820T170000
DESCRIPTION:Tickets: https://pretix.kdab.com/kdab-training/AdvQML180826/\nO
 rganizer: KDAB Training
DTSTAMP:20260424T135251Z
LOCATION:Berlin\, Germany
SUMMARY:Advanced QML
END:VEVENT
BEGIN:VEVENT
UID:pretix-kdab-training-IntRust210926-3-0@pretix.kdab.com
DTSTART;TZID=Europe/Berlin:20260921T140000
DTEND;TZID=Europe/Berlin:20260925T180000
DESCRIPTION:Tickets: https://pretix.kdab.com/kdab-training/IntRust210926-3/
 \nOrganizer: KDAB Training
DTSTAMP:20260424T135251Z
LOCATION:Online
SUMMARY:Introduction to Rust
END:VEVENT
BEGIN:VEVENT
UID:pretix-kdab-training-RustCombo210926-0@pretix.kdab.com
DTSTART;TZID=Europe/Berlin:20260921T140000
DTEND;TZID=Europe/Berlin:20261009T180000
DESCRIPTION:Tickets: https://pretix.kdab.com/kdab-training/RustCombo210926/
 \nOrganizer: KDAB Training
DTSTAMP:20260424T135251Z
LOCATION:Online
SUMMARY:Introduction + Embedded Rust Combo
END:VEVENT
BEGIN:VEVENT
UID:pretix-kdab-training-DPCL210926-0@pretix.kdab.com
DTSTART;TZID=Europe/Berlin:20260922T090000
DTEND;TZID=Europe/Berlin:20260924T170000
DESCRIPTION:Tickets: https://pretix.kdab.com/kdab-training/DPCL210926/\nOrg
 anizer: KDAB Training
DTSTAMP:20260424T135251Z
LOCATION:Berlin\, Germany
SUMMARY:Debugging and Profiling C++ applications on Linux
END:VEVENT
BEGIN:VEVENT
UID:pretix-kdab-training-EmbRust071026-0@pretix.kdab.com
DTSTART;TZID=Europe/Berlin:20261007T140000
DTEND;TZID=Europe/Berlin:20261009T180000
DESCRIPTION:Tickets: https://pretix.kdab.com/kdab-training/EmbRust071026/\n
 Organizer: KDAB Training
DTSTAMP:20260424T135251Z
LOCATION:Online
SUMMARY:Embedded Rust
END:VEVENT
BEGIN:VEVENT
UID:pretix-kdab-training-AdvQW071124-2-0@pretix.kdab.com
DTSTART;TZID=Europe/Berlin:20261013T090000
DTEND;TZID=Europe/Berlin:20261015T170000
DESCRIPTION:Tickets: https://pretix.kdab.com/kdab-training/AdvQW071124-2/\n
 Organizer: KDAB Training
DTSTAMP:20260424T135251Z
LOCATION:Berlin\, Germany
SUMMARY:Advanced Qt Widgets
END:VEVENT
BEGIN:VEVENT
UID:pretix-kdab-training-AdvCpp-0@pretix.kdab.com
DTSTART;TZID=Europe/Berlin:20261124T090000
DTEND;TZID=Europe/Berlin:20261127T170000
DESCRIPTION:Tickets: https://pretix.kdab.com/kdab-training/AdvCpp/\nOrganiz
 er: KDAB Training
DTSTAMP:20260424T135251Z
LOCATION:Berlin\, Germany
SUMMARY:Advanced Modern C++
END:VEVENT
BEGIN:VEVENT
UID:pretix-kdab-training-IntRust301126-0@pretix.kdab.com
DTSTART;TZID=Europe/Berlin:20261130T140000
DTEND;TZID=Europe/Berlin:20261204T180000
DESCRIPTION:Tickets: https://pretix.kdab.com/kdab-training/IntRust301126/\n
 Organizer: KDAB Training
DTSTAMP:20260424T135251Z
LOCATION:Online
SUMMARY:Introduction to Rust
END:VEVENT
BEGIN:VEVENT
UID:pretix-kdab-training-RustCombo301126-0@pretix.kdab.com
DTSTART;TZID=Europe/Berlin:20261130T140000
DTEND;TZID=Europe/Berlin:20261211T180000
DESCRIPTION:Tickets: https://pretix.kdab.com/kdab-training/RustCombo301126/
 \nOrganizer: KDAB Training
DTSTAMP:20260424T135251Z
LOCATION:Online
SUMMARY:Introduction + Embedded Rust Combo
END:VEVENT
BEGIN:VEVENT
UID:pretix-kdab-training-EmbRust091226-0@pretix.kdab.com
DTSTART;TZID=Europe/Berlin:20261209T140000
DTEND;TZID=Europe/Berlin:20261211T180000
DESCRIPTION:Tickets: https://pretix.kdab.com/kdab-training/EmbRust091226/\n
 Organizer: KDAB Training
DTSTAMP:20260424T135251Z
LOCATION:Online
SUMMARY:Embedded Rust
END:VEVENT
END:VCALENDAR
